BEGIN:VCALENDAR
VERSION:2.0
PRODID:-//Matrusri Engineering College - ECPv5.10.0//NONSGML v1.0//EN
CALSCALE:GREGORIAN
METHOD:PUBLISH
X-WR-CALNAME:Matrusri Engineering College
X-ORIGINAL-URL:https://matrusri.edu.in
X-WR-CALDESC:Events for Matrusri Engineering College
BEGIN:VTIMEZONE
TZID:UTC
BEGIN:STANDARD
TZOFFSETFROM:+0000
TZOFFSETTO:+0000
TZNAME:UTC
DTSTART:20200101T000000
END:STANDARD
END:VTIMEZONE
BEGIN:VEVENT
DTSTART;TZID=UTC:20200814T100000
DTEND;TZID=UTC:20200817T131500
DTSTAMP:20260424T081328
CREATED:20200814T010823Z
LAST-MODIFIED:20200831T024430Z
UID:6300-1597399200-1597670100@matrusri.edu.in
SUMMARY:Three-Day Virtual FDP on "ANN & Deep Learning" By Department of CSE
DESCRIPTION:Department of Computer Science and Engineering had organized a Three-Day National Level Faculty Development Program (FDP) on “ANN & Deep Learning” on 14th\, 15th and 17th August 2020. Guest Speaker Dr. V. Anantha Natarajan\, Associate Professor\, Dept of CSE\, Sree Vidyaniketha Engineering College\, Tirupati delivered valuable lectures in Artificial Nerual Networks and Deep Learning techniques.\n\n \n\n\n\nTotal Views: 230
URL:https://matrusri.edu.in/event/ann-deep-learning/
LOCATION:Online
ATTACH;FMTTYPE=image/jpeg:https://matrusri.edu.in/wp-content/uploads/2020/03/Matrusri-FDP-Modified1-scaled.jpg
END:VEVENT
END:VCALENDAR